BEGIN:VCALENDAR
VERSION:2.0
PRODID:-//ActiveBury//Events//EN
CALSCALE:GREGORIAN
BEGIN:VEVENT
UID:event-327@activebury.com
DTSTAMP:20260425T133256Z
SUMMARY:Wor Wic Child Development
DTSTART:20260406T101500
DTEND:20260406T110000
LOCATION:Bookmobile
DESCRIPTION:This event is in the "Everyone" group 10:15am–11:00am Everyone Bookmobile Offsite Event This event is in the "Everyone" group Apr 6 2026 Mon Wor Wic Child Development 10:15am–11:00am Bookmobile Please note you are looking at an event that has already happened. Bookmobile Everyone 2300 Campus Dr.\nMore info: https://www.wicomicolibrary.org/event/wor-wic-child-development-20258\nActiveBury: https://www.activebury.com/events/327
URL:https://www.activebury.com/events/327
END:VEVENT
END:VCALENDAR
