BEGIN:VCALENDAR
VERSION:2.0
PRODID:-//ActiveBury//Events//EN
CALSCALE:GREGORIAN
BEGIN:VEVENT
UID:event-326@activebury.com
DTSTAMP:20260425T133259Z
SUMMARY:Young Achievers Learning Center
DTSTART:20260406T090000
DTEND:20260406T100000
LOCATION:Bookmobile
DESCRIPTION:This event is in the "Everyone" group 9:00am–10:00am Everyone Bookmobile Offsite Event This event is in the "Everyone" group Apr 6 2026 Mon Young Achievers Learning Center 9:00am–10:00am Bookmobile Bookmobile Everyone 32085 Beaver Run Dr.\nMore info: https://www.wicomicolibrary.org/event/young-achievers-learning-center-20274\nActiveBury: https://www.activebury.com/events/326
URL:https://www.activebury.com/events/326
END:VEVENT
END:VCALENDAR
