BEGIN:VCALENDAR
VERSION:2.0
PRODID:-//ActiveBury//Events//EN
CALSCALE:GREGORIAN
BEGIN:VEVENT
UID:event-324@activebury.com
DTSTAMP:20260425T133818Z
SUMMARY:Name That Tune - Disney Edition
DTSTART:20260402T130000
DTEND:20260402T140000
LOCATION:Mobile Learning Lab
DESCRIPTION:This event is in the "Ages 6-11" group This event is in the "Ages 12-18" group This event is in the "Ages 18+" group 1:00pm–2:00pm Ages 6-11\, Ages 12-18\, Ages 18+ Mobile Learning Lab Closed Registration Available Offsite Event This event is in the "Ages 6-11" group This event is in the "Ages 12-18" group This event is in the "Ages 18+" group Apr 2 2026 Thu Name That Tune - Disney Edition 1:00pm–2:00pm Mobile Learning Lab Closed Please note you are looking at an event that has already happened. Mobile Learning Lab Ages 6-11 \, Ages 12-18 \, Ages 18+ Arts and Crafts \, Summer Reading \, Technology Registration Available Put your Disney knowledge to the test at this fun\, music-filled program! Listen to short clips from beloved Disney songs and see if you can name that tune before time runs out.\nMore info: https://www.wicomicolibrary.org/event/disney-name-tune-22672\nActiveBury: https://www.activebury.com/events/324
URL:https://www.activebury.com/events/324
END:VEVENT
END:VCALENDAR
