BEGIN:VCALENDAR
VERSION:2.0
PRODID:-//ActiveBury//Events//EN
CALSCALE:GREGORIAN
BEGIN:VEVENT
UID:event-323@activebury.com
DTSTAMP:20260425T133831Z
SUMMARY:Coffee Club @ The Centre Branch
DTSTART:20260402T103000
DTEND:20260402T120000
LOCATION:Centre Branch
DESCRIPTION:This event is in the "Ages 18+" group 10:30am–12:00pm Ages 18+ Centre Branch This event is in the "Ages 18+" group Apr 2 2026 Thu Coffee Club @ The Centre Branch 10:30am–12:00pm Centre Branch Please note you are looking at an event that has already happened. Centre Branch The Space at Centre Ages 18+ Other What have you “bean” up to lately? Grab a cup or bring your own mug for coffee\, tea\, hot chocolate\, and good company every Thursday morning.\nMore info: https://www.wicomicolibrary.org/event/coffee-club-centre-branch-19903\nActiveBury: https://www.activebury.com/events/323
URL:https://www.activebury.com/events/323
END:VEVENT
END:VCALENDAR
