BEGIN:VCALENDAR
VERSION:2.0
PRODID:-//ActiveBury//Events//EN
CALSCALE:GREGORIAN
BEGIN:VEVENT
UID:event-317@activebury.com
DTSTAMP:20260425T133308Z
SUMMARY:Fun with Digital Art
DTSTART:20260328T100000
DTEND:20260328T120000
LOCATION:Mobile Learning Lab
DESCRIPTION:This event is in the "Ages 6-11" group This event is in the "Ages 12-18" group This event is in the "Ages 18+" group 10:00am–12:00pm Ages 6-11\, Ages 12-18\, Ages 18+ Mobile Learning Lab Open Registration Available Offsite Event This event is in the "Ages 6-11" group This event is in the "Ages 12-18" group This event is in the "Ages 18+" group Mar 28 2026 Sat Fun with Digital Art 10:00am–12:00pm Mobile Learning Lab Open Mobile Learning Lab Ages 6-11 \, Ages 12-18 \, Ages 18+ Arts and Crafts \, Summer Reading \, Technology Registration Available Visit our Mobile Learning Lab at the YMCA parking lot to try your hand at digital art. If you have been wanting to use a digital drawing pad\, here is your chance! When you finish\, you may print your creation or email it to yourself.\nMore info: https://www.wicomicolibrary.org/event/fun-digital-art-22668\nActiveBury: https://www.activebury.com/events/317
URL:https://www.activebury.com/events/317
END:VEVENT
END:VCALENDAR
