BEGIN:VCALENDAR
VERSION:2.0
PRODID:-//ActiveBury//Events//EN
CALSCALE:GREGORIAN
BEGIN:VEVENT
UID:event-311@activebury.com
DTSTAMP:20260425T133330Z
SUMMARY:Northwestern School
DTSTART:20260325T090000
DTEND:20260325T150000
LOCATION:Bookmobile
DESCRIPTION:This event is in the "Everyone" group 9:00am–3:00pm Everyone Bookmobile Offsite Event This event is in the "Everyone" group Mar 25 2026 Wed Northwestern School 9:00am–3:00pm Bookmobile Please note you are looking at an event that has already happened. Bookmobile Everyone 9975 Sharptown Rd.\nMore info: https://www.wicomicolibrary.org/event/northwestern-school-20191\nActiveBury: https://www.activebury.com/events/311
URL:https://www.activebury.com/events/311
END:VEVENT
END:VCALENDAR
