BEGIN:VCALENDAR
VERSION:2.0
PRODID:-//ActiveBury//Events//EN
CALSCALE:GREGORIAN
BEGIN:VEVENT
UID:event-303@activebury.com
DTSTAMP:20260425T142925Z
SUMMARY:Corner Campus
DTSTART:20260323T090000
DTEND:20260323T100000
LOCATION:Bookmobile
DESCRIPTION:This event is in the "Everyone" group 9:00am–10:00am Everyone Bookmobile Offsite Event This event is in the "Everyone" group Mar 23 2026 Mon Corner Campus 9:00am–10:00am Bookmobile Please note you are looking at an event that has already happened. Bookmobile Everyone 28430 Nanticoke Rd.\nMore info: https://www.wicomicolibrary.org/event/corner-campus-20324\nActiveBury: https://www.activebury.com/events/303
URL:https://www.activebury.com/events/303
END:VEVENT
END:VCALENDAR
