BEGIN:VCALENDAR
VERSION:2.0
PRODID:-//ActiveBury//Events//EN
CALSCALE:GREGORIAN
BEGIN:VEVENT
UID:event-3@activebury.com
DTSTAMP:20260425T134257Z
SUMMARY:Cambridge Ice & Oyster Festival
DTSTART:20260116T170000
DTEND:20260116T200000
LOCATION:420 Race St Cambridge \, MD 21613
DESCRIPTION:More info: https://www.facebook.com/events/1572181327474931/\nActiveBury: https://www.activebury.com/events/3
URL:https://www.activebury.com/events/3
END:VEVENT
END:VCALENDAR
