BEGIN:VCALENDAR
VERSION:2.0
PRODID:-//ActiveBury//Events//EN
CALSCALE:GREGORIAN
BEGIN:VEVENT
UID:event-297@activebury.com
DTSTAMP:20260425T133903Z
SUMMARY:Tommy Tucker Childcare
DTSTART:20260319T081500
DTEND:20260319T084500
LOCATION:Bookmobile
DESCRIPTION:This event is in the "Everyone" group 8:15am–8:45am Everyone Bookmobile Offsite Event This event is in the "Everyone" group Mar 19 2026 Thu Tommy Tucker Childcare 8:15am–8:45am Bookmobile Please note you are looking at an event that has already happened. Bookmobile Everyone 33304 Old Ocean City Rd.\nMore info: https://www.wicomicolibrary.org/event/tommy-tucker-childcare-20165\nActiveBury: https://www.activebury.com/events/297
URL:https://www.activebury.com/events/297
END:VEVENT
END:VCALENDAR
