BEGIN:VCALENDAR
VERSION:2.0
PRODID:-//ActiveBury//Events//EN
CALSCALE:GREGORIAN
BEGIN:VEVENT
UID:event-296@activebury.com
DTSTAMP:20260425T133742Z
SUMMARY:Adult Yoga with Soul Yoga
DTSTART:20260318T161500
DTEND:20260318T173000
LOCATION:Paul S. Sarbanes Branch
DESCRIPTION:This event is in the "Ages 18+" group 4:15pm–5:30pm Ages 18+ Paul S. Sarbanes Branch Closed Registration Available This event is in the "Ages 18+" group Mar 18 2026 Wed Adult Yoga with Soul Yoga 4:15pm–5:30pm Paul S. Sarbanes Branch Closed Please note you are looking at an event that has already happened. Paul S. Sarbanes Branch Room 1 Ages 18+ Class or Workshop \, Guest Speaker or Performance Registration Available Come join Soul Yoga's instructor Lauren Gilmore for a free adult yoga class! Participants will learn the fundamentals of yoga while exploring how it can benefit them. Grab a friend or family member to experience and learn together.\nMore info: https://www.wicomicolibrary.org/event/adult-yoga-soul-yoga-23046\nActiveBury: https://www.activebury.com/events/296
URL:https://www.activebury.com/events/296
END:VEVENT
END:VCALENDAR
