BEGIN:VCALENDAR
VERSION:2.0
PRODID:-//ActiveBury//Events//EN
CALSCALE:GREGORIAN
BEGIN:VEVENT
UID:event-295@activebury.com
DTSTAMP:20260425T133314Z
SUMMARY:Minds in Motion (STEAM)
DTSTART:20260318T153000
DTEND:20260318T173000
LOCATION:Paul S. Sarbanes Branch
DESCRIPTION:This event is in the "Ages 6-11" group 3:30pm–5:30pm Ages 6-11 Paul S. Sarbanes Branch Closed Registration Available This event is in the "Ages 6-11" group Mar 18 2026 Wed Minds in Motion (STEAM) 3:30pm–5:30pm Paul S. Sarbanes Branch Closed Please note you are looking at an event that has already happened. Paul S. Sarbanes Branch STEAM Studio Ages 6-11 STEM Registration Available Get ready to imagine\, explore\, and create! Minds in Motion is a hands-on STEAM program designed for elementary students to spark curiosity and build problem-solving skills through fun\, engaging activities.\nMore info: https://www.wicomicolibrary.org/event/minds-motion-steam-21877\nActiveBury: https://www.activebury.com/events/295
URL:https://www.activebury.com/events/295
END:VEVENT
END:VCALENDAR
