BEGIN:VCALENDAR
VERSION:2.0
PRODID:-//ActiveBury//Events//EN
CALSCALE:GREGORIAN
BEGIN:VEVENT
UID:event-293@activebury.com
DTSTAMP:20260425T133251Z
SUMMARY:Pemberton School
DTSTART:20260318T090000
DTEND:20260318T150000
LOCATION:Bookmobile
DESCRIPTION:This event is in the "Everyone" group 9:00am–3:00pm Everyone Bookmobile Offsite Event This event is in the "Everyone" group Mar 18 2026 Wed Pemberton School 9:00am–3:00pm Bookmobile Please note you are looking at an event that has already happened. Bookmobile Everyone 1300 Pemberton Dr.\nMore info: https://www.wicomicolibrary.org/event/pemberton-school-20156\nActiveBury: https://www.activebury.com/events/293
URL:https://www.activebury.com/events/293
END:VEVENT
END:VCALENDAR
