BEGIN:VCALENDAR
VERSION:2.0
PRODID:-//ActiveBury//Events//EN
CALSCALE:GREGORIAN
BEGIN:VEVENT
UID:event-286@activebury.com
DTSTAMP:20260425T133257Z
SUMMARY:Reflections in Classical Sound
DTSTART:20260316T101500
DTEND:20260316T110000
LOCATION:Mobile Learning Lab
DESCRIPTION:This event is in the "Ages 18+" group 10:15am–11:00am Ages 18+ Mobile Learning Lab Offsite Event This event is in the "Ages 18+" group Mar 16 2026 Mon Reflections in Classical Sound 10:15am–11:00am Mobile Learning Lab Please note you are looking at an event that has already happened. Mobile Learning Lab Ages 18+ Class or Workshop \, Technology Discover the beauty and emotion of classical music aboard the Mobile Learning Lab. Come explore famous composers and their iconic works through interactive listening experiences. No musical knowledge is needed\, just curiosity and open\nMore info: https://www.wicomicolibrary.org/event/classical-music-appreciation-about-spring-22673\nActiveBury: https://www.activebury.com/events/286
URL:https://www.activebury.com/events/286
END:VEVENT
END:VCALENDAR
