BEGIN:VCALENDAR
VERSION:2.0
PRODID:-//ActiveBury//Events//EN
CALSCALE:GREGORIAN
BEGIN:VEVENT
UID:event-284@activebury.com
DTSTAMP:20260425T133314Z
SUMMARY:Flight Path Explorers
DTSTART:20260315T140000
DTEND:20260315T150000
LOCATION:Paul S. Sarbanes Branch
DESCRIPTION:This event is in the "Ages 6-11" group 2:00pm–3:00pm Ages 6-11 Paul S. Sarbanes Branch Closed Registration Available This event is in the "Ages 6-11" group Mar 15 2026 Sun Flight Path Explorers 2:00pm–3:00pm Paul S. Sarbanes Branch Closed Please note you are looking at an event that has already happened. Paul S. Sarbanes Branch Children's Program Room Ages 6-11 STEM \, Special Events Registration Available Kids ages 6–11 are invited to become science explorers as we take a closer look at bird migration and the birds that live in our local and regional environments. (s) Attending Children Children under 8 must be monitored by a guardian who is at least 13 years old to assure the safety and behavior of that child. Children ages 8 and older may visit the library independently provided they are\nMore info: https://www.wicomicolibrary.org/event/flight-path-explorers-22967\nActiveBury: https://www.activebury.com/events/284
URL:https://www.activebury.com/events/284
END:VEVENT
END:VCALENDAR
