BEGIN:VCALENDAR
VERSION:2.0
PRODID:-//ActiveBury//Events//EN
CALSCALE:GREGORIAN
BEGIN:VEVENT
UID:event-283@activebury.com
DTSTAMP:20260425T152737Z
SUMMARY:CraftLab
DTSTART:20260314T140000
DTEND:20260314T153000
LOCATION:Paul S. Sarbanes Branch
DESCRIPTION:This event is in the "Ages 6-11" group This event is in the "Ages 12-18" group 2:00pm–3:30pm Ages 6-11\, Ages 12-18 Paul S. Sarbanes Branch Closed Registration Available This event is in the "Ages 6-11" group This event is in the "Ages 12-18" group Mar 14 2026 Sat CraftLab 2:00pm–3:30pm Paul S. Sarbanes Branch Closed Please note you are looking at an event that has already happened. Paul S. Sarbanes Branch STEAM Studio Ages 6-11 \, Ages 12-18 Arts and Crafts \, STEM Registration Available Get creative at CraftLab! Join us for a hands-on\, mixed-media makerspace experience where we explore sewing\, Cricut design\, printmaking\, and more. Each session\, participants will learn new skills and take home a completed project.\nMore info: https://www.wicomicolibrary.org/event/craftlab-22703\nActiveBury: https://www.activebury.com/events/283
URL:https://www.activebury.com/events/283
END:VEVENT
END:VCALENDAR
