BEGIN:VCALENDAR
VERSION:2.0
PRODID:-//ActiveBury//Events//EN
CALSCALE:GREGORIAN
BEGIN:VEVENT
UID:event-282@activebury.com
DTSTAMP:20260425T133256Z
SUMMARY:Bookmobile Pop-Up & Locker Tutorial
DTSTART:20260314T100000
DTEND:20260314T113000
LOCATION:Bookmobile
DESCRIPTION:This event is in the "Everyone" group 10:00am–11:30am Everyone Bookmobile Offsite Event This event is in the "Everyone" group Mar 14 2026 Sat Bookmobile Pop-Up & Locker Tutorial 10:00am–11:30am Bookmobile Please note you are looking at an event that has already happened. Bookmobile Everyone Class or Workshop \, Technology The library is coming to Westside Community Center! Stop by to browse the Bookmobile’s collection of books\, movies\, and other library materials for all ages.\nMore info: https://www.wicomicolibrary.org/event/bookmobile-pop-locker-tutorial-22731\nActiveBury: https://www.activebury.com/events/282
URL:https://www.activebury.com/events/282
END:VEVENT
END:VCALENDAR
