BEGIN:VCALENDAR
VERSION:2.0
PRODID:-//ActiveBury//Events//EN
CALSCALE:GREGORIAN
BEGIN:VEVENT
UID:event-281@activebury.com
DTSTAMP:20260425T133742Z
SUMMARY:Adult Trivia Night
DTSTART:20260312T190000
DTEND:20260312T210000
LOCATION:Off Site
DESCRIPTION:This event is in the "Ages 18+" group 7:00pm–9:00pm Ages 18+ Off Site Closed Registration Available Offsite Event This event is in the "Ages 18+" group Mar 12 2026 Thu Adult Trivia Night 7:00pm–9:00pm Off Site Closed Please note you are looking at an event that has already happened. Off Site Ages 18+ Games \, Special Events Registration Available Think you know it all? Come prove it at The Brick Room\, where an adult trivia night will be hosted! All categories and subjects are included in this exciting night of trivia.\nMore info: https://www.wicomicolibrary.org/event/adult-trivia-night-18998\nActiveBury: https://www.activebury.com/events/281
URL:https://www.activebury.com/events/281
END:VEVENT
END:VCALENDAR
