BEGIN:VCALENDAR
VERSION:2.0
PRODID:-//ActiveBury//Events//EN
CALSCALE:GREGORIAN
BEGIN:VEVENT
UID:event-28@activebury.com
DTSTAMP:20260425T133248Z
SUMMARY:The Iron Keep: Table Top Gaming
DTSTART:20260108T153000
DTEND:20260108T183000
LOCATION:Paul S. Sarbanes Branch
DESCRIPTION:This event is in the "Ages 12-18" group Cancelled 3:30pm–6:30pm Ages 12-18 Paul S. Sarbanes Branch This event is in the "Ages 12-18" group Jan 8 2026 Thu Cancelled The Iron Keep: Table Top Gaming 3:30pm–6:30pm Paul S. Sarbanes Branch Please note you are looking at an event that has already happened. Paul S. Sarbanes Branch STEAM Studio Ages 12-18 Games \, Guest Speaker or Performance Step into the world of imagination\, strategy\, and storytelling with The Iron Keep \, a tabletop role-playing game experience designed especially for teens. (s) Attending Children Children under 8 must be monitored by a guardian who is at least 13 years old to assure the safety and behavior of that child. Children ages 8 and older may visit the library independently provided they are able to care for themselves a\nMore info: https://www.wicomicolibrary.org/event/iron-keep-table-top-gaming-20991\nActiveBury: https://www.activebury.com/events/28
URL:https://www.activebury.com/events/28
END:VEVENT
END:VCALENDAR
