BEGIN:VCALENDAR
VERSION:2.0
PRODID:-//ActiveBury//Events//EN
CALSCALE:GREGORIAN
BEGIN:VEVENT
UID:event-279@activebury.com
DTSTAMP:20260425T133828Z
SUMMARY:Encompass Health
DTSTART:20260312T134500
DTEND:20260312T141500
LOCATION:Bookmobile
DESCRIPTION:This event is in the "Everyone" group 1:45pm–2:15pm Everyone Bookmobile Offsite Event This event is in the "Everyone" group Mar 12 2026 Thu Encompass Health 1:45pm–2:15pm Bookmobile Please note you are looking at an event that has already happened. Bookmobile Everyone 220 Tilghman Rd.\nMore info: https://www.wicomicolibrary.org/event/encompass-health-20139\nActiveBury: https://www.activebury.com/events/279
URL:https://www.activebury.com/events/279
END:VEVENT
END:VCALENDAR
