BEGIN:VCALENDAR
VERSION:2.0
PRODID:-//ActiveBury//Events//EN
CALSCALE:GREGORIAN
BEGIN:VEVENT
UID:event-277@activebury.com
DTSTAMP:20260425T133831Z
SUMMARY:Wicomico Day School
DTSTART:20260312T090000
DTEND:20260312T133000
LOCATION:Bookmobile
DESCRIPTION:This event is in the "Everyone" group 9:00am–1:30pm Everyone Bookmobile Offsite Event This event is in the "Everyone" group Mar 12 2026 Thu Wicomico Day School 9:00am–1:30pm Bookmobile Please note you are looking at an event that has already happened. Bookmobile Everyone 1315 Old Ocean City Rd.\nMore info: https://www.wicomicolibrary.org/event/wicomico-day-school-20131\nActiveBury: https://www.activebury.com/events/277
URL:https://www.activebury.com/events/277
END:VEVENT
END:VCALENDAR
