BEGIN:VCALENDAR
VERSION:2.0
PRODID:-//ActiveBury//Events//EN
CALSCALE:GREGORIAN
BEGIN:VEVENT
UID:event-276@activebury.com
DTSTAMP:20260425T133256Z
SUMMARY:PokéClub
DTSTART:20260311T160000
DTEND:20260311T170000
LOCATION:Paul S. Sarbanes Branch
DESCRIPTION:This event is in the "Ages 0-5" group This event is in the "Ages 6-11" group This event is in the "Ages 12-18" group 4:00pm–5:00pm Ages 0-5\, Ages 6-11\, Ages 12-18 Paul S. Sarbanes Branch This event is in the "Ages 0-5" group This event is in the "Ages 6-11" group This event is in the "Ages 12-18" group Mar 11 2026 Wed PokéClub 4:00pm–5:00pm Paul S. Sarbanes Branch Please note you are looking at an event that has already happened. Paul S. Sarbanes Branch STEAM Studio Ages 0-5 \, Ages 6-11 \, Ages 12-18 STEM \, Games Calling all young Pokémon Trainers! Join us for PokéClub \, an official Pokémon Club program offered in partnership with the Association for Library Service to Children (ALSC). (s) Attending Children Children under 8 must be monitored by a guardian who is at least 13 years old to as\nMore info: https://www.wicomicolibrary.org/event/pokeclub-22717\nActiveBury: https://www.activebury.com/events/276
URL:https://www.activebury.com/events/276
END:VEVENT
END:VCALENDAR
