BEGIN:VCALENDAR
VERSION:2.0
PRODID:-//ActiveBury//Events//EN
CALSCALE:GREGORIAN
BEGIN:VEVENT
UID:event-275@activebury.com
DTSTAMP:20260425T133448Z
SUMMARY:Pinehurst Elementary School
DTSTART:20260311T080000
DTEND:20260311T140000
LOCATION:Bookmobile
DESCRIPTION:This event is in the "Everyone" group 8:00am–2:00pm Everyone Bookmobile Offsite Event This event is in the "Everyone" group Mar 11 2026 Wed Pinehurst Elementary School 8:00am–2:00pm Bookmobile Please note you are looking at an event that has already happened. Bookmobile Everyone\nMore info: https://www.wicomicolibrary.org/event/pinehurst-elementary-school-20237\nActiveBury: https://www.activebury.com/events/275
URL:https://www.activebury.com/events/275
END:VEVENT
END:VCALENDAR
