BEGIN:VCALENDAR
VERSION:2.0
PRODID:-//ActiveBury//Events//EN
CALSCALE:GREGORIAN
BEGIN:VEVENT
UID:event-274@activebury.com
DTSTAMP:20260425T133257Z
SUMMARY:Delmar Elementary
DTSTART:20260310T083000
DTEND:20260310T141500
LOCATION:Bookmobile
DESCRIPTION:This event is in the "Everyone" group 8:30am–2:15pm Everyone Bookmobile Offsite Event This event is in the "Everyone" group Mar 10 2026 Tue Delmar Elementary 8:30am–2:15pm Bookmobile Please note you are looking at an event that has already happened. Bookmobile Everyone 811 S 2nd St\, Delmar\nMore info: https://www.wicomicolibrary.org/event/delmar-elementary-20114\nActiveBury: https://www.activebury.com/events/274
URL:https://www.activebury.com/events/274
END:VEVENT
END:VCALENDAR
