BEGIN:VCALENDAR
VERSION:2.0
PRODID:-//ActiveBury//Events//EN
CALSCALE:GREGORIAN
BEGIN:VEVENT
UID:event-271@activebury.com
DTSTAMP:20260425T133251Z
SUMMARY:Asbury Child Development Center
DTSTART:20260309T110000
DTEND:20260309T114500
LOCATION:Bookmobile
DESCRIPTION:This event is in the "Everyone" group 11:00am–11:45am Everyone Bookmobile Offsite Event This event is in the "Everyone" group Mar 9 2026 Mon Asbury Child Development Center 11:00am–11:45am Bookmobile Please note you are looking at an event that has already happened. Bookmobile Everyone 1401 Camden Ave.\nMore info: https://www.wicomicolibrary.org/event/asbury-child-development-center-20289\nActiveBury: https://www.activebury.com/events/271
URL:https://www.activebury.com/events/271
END:VEVENT
END:VCALENDAR
