BEGIN:VCALENDAR
VERSION:2.0
PRODID:-//ActiveBury//Events//EN
CALSCALE:GREGORIAN
BEGIN:VEVENT
UID:event-269@activebury.com
DTSTAMP:20260425T133259Z
SUMMARY:Senior Computer Help
DTSTART:20260309T100000
DTEND:20260309T120000
LOCATION:Mobile Learning Lab
DESCRIPTION:This event is in the "Ages 18+" group 10:00am–12:00pm Ages 18+ Mobile Learning Lab Offsite Event This event is in the "Ages 18+" group Mar 9 2026 Mon Senior Computer Help 10:00am–12:00pm Mobile Learning Lab Please note you are looking at an event that has already happened. Mobile Learning Lab Ages 18+ Class or Workshop \, Technology Whether it’s staying in touch with loved ones\, accessing important resources\, or exploring new opportunities\, we’re here to help you connect with the tools and skills you need.\nMore info: https://www.wicomicolibrary.org/event/senior-computer-help-22664\nActiveBury: https://www.activebury.com/events/269
URL:https://www.activebury.com/events/269
END:VEVENT
END:VCALENDAR
