BEGIN:VCALENDAR
VERSION:2.0
PRODID:-//ActiveBury//Events//EN
CALSCALE:GREGORIAN
BEGIN:VEVENT
UID:event-268@activebury.com
DTSTAMP:20260425T133312Z
SUMMARY:Stepping Stones LA
DTSTART:20260309T090000
DTEND:20260309T104500
LOCATION:Bookmobile
DESCRIPTION:This event is in the "Everyone" group 9:00am–10:45am Everyone Bookmobile Offsite Event This event is in the "Everyone" group Mar 9 2026 Mon Stepping Stones LA 9:00am–10:45am Bookmobile Please note you are looking at an event that has already happened. Bookmobile Everyone 402 W Main St\, Fruitland\nMore info: https://www.wicomicolibrary.org/event/stepping-stones-la-20281\nActiveBury: https://www.activebury.com/events/268
URL:https://www.activebury.com/events/268
END:VEVENT
END:VCALENDAR
