BEGIN:VCALENDAR
VERSION:2.0
PRODID:-//ActiveBury//Events//EN
CALSCALE:GREGORIAN
BEGIN:VEVENT
UID:event-260@activebury.com
DTSTAMP:20260425T182823Z
SUMMARY:Family Law Help Services
DTSTART:20260304T130000
DTEND:20260304T160000
LOCATION:Mobile Learning Lab
DESCRIPTION:This event is in the "Ages 18+" group 1:00pm–4:00pm Ages 18+ Mobile Learning Lab Offsite Event This event is in the "Ages 18+" group Mar 4 2026 Wed Family Law Help Services 1:00pm–4:00pm Mobile Learning Lab Please note you are looking at an event that has already happened. Mobile Learning Lab Ages 18+ Other The Mobile Learning Lab will be parked at the Tri-County building. Let Wicomico Public Library’s Mobile Learning Lab bring FREE Family Law Help to you!\nMore info: https://www.wicomicolibrary.org/event/family-law-help-services-22651\nActiveBury: https://www.activebury.com/events/260
URL:https://www.activebury.com/events/260
END:VEVENT
END:VCALENDAR
