BEGIN:VCALENDAR
VERSION:2.0
PRODID:-//ActiveBury//Events//EN
CALSCALE:GREGORIAN
BEGIN:VEVENT
UID:event-255@activebury.com
DTSTAMP:20260425T133743Z
SUMMARY:Salvation Army Senior Center
DTSTART:20260302T120000
DTEND:20260302T130000
LOCATION:Bookmobile
DESCRIPTION:This event is in the "Everyone" group 12:00pm–1:00pm Everyone Bookmobile Offsite Event This event is in the "Everyone" group Mar 2 2026 Mon Salvation Army Senior Center 12:00pm–1:00pm Bookmobile Please note you are looking at an event that has already happened. Bookmobile Everyone 415 Oak St. Salisbury\nMore info: https://www.wicomicolibrary.org/event/salvation-army-senior-center-20387\nActiveBury: https://www.activebury.com/events/255
URL:https://www.activebury.com/events/255
END:VEVENT
END:VCALENDAR
