BEGIN:VCALENDAR
VERSION:2.0
PRODID:-//ActiveBury//Events//EN
CALSCALE:GREGORIAN
BEGIN:VEVENT
UID:event-254@activebury.com
DTSTAMP:20260425T152851Z
SUMMARY:Wicomico Middle School
DTSTART:20260302T111500
DTEND:20260302T114500
LOCATION:Bookmobile
DESCRIPTION:This event is in the "Everyone" group 11:15am–11:45am Everyone Bookmobile Offsite Event This event is in the "Everyone" group Mar 2 2026 Mon Wicomico Middle School 11:15am–11:45am Bookmobile Please note you are looking at an event that has already happened. Bookmobile Everyone 635 E Main St.\nMore info: https://www.wicomicolibrary.org/event/wicomico-middle-school-20265\nActiveBury: https://www.activebury.com/events/254
URL:https://www.activebury.com/events/254
END:VEVENT
END:VCALENDAR
