BEGIN:VCALENDAR
VERSION:2.0
PRODID:-//ActiveBury//Events//EN
CALSCALE:GREGORIAN
BEGIN:VEVENT
UID:event-2519@activebury.com
DTSTAMP:20260425T133957Z
SUMMARY:Let's Get Cooking: Shamrock Shakes
DTSTART:20260317T163000
DTEND:20260317T173000
LOCATION:Ocean Pines Large Meeting Room Branch: Ocean Pines Branch Audience: 12 to 18 Categories: Crafts
DESCRIPTION:Love shamrock shakes but not the calories? Create your own healthier version and enjoy! Ages 10 and up. 410-208-4014\nMore info: https://worcesterlibrary.libcal.com/event/14926058?hs=a\nActiveBury: https://www.activebury.com/events/2519
URL:https://www.activebury.com/events/2519
END:VEVENT
END:VCALENDAR
