BEGIN:VCALENDAR
VERSION:2.0
PRODID:-//ActiveBury//Events//EN
CALSCALE:GREGORIAN
BEGIN:VEVENT
UID:event-2518@activebury.com
DTSTAMP:20260425T134530Z
SUMMARY:Early Readers Book Club- "Fox has a Problem"
DTSTART:20260317T160000
DTEND:20260317T170000
LOCATION:Pocomoke Meeting Room Branch: Pocomoke Branch Audience: 6 to 11 Categories: Crafts Games Storytime
DESCRIPTION:Join us for a book club for new and emerging readers. No need to read the book beforehand\, come out and enjoy a shared reading experience as a group. Afterwards children will play games or do crafts that relate to the story that was read. Best for ages 6 to 8. 410-957-0878.\nMore info: https://worcesterlibrary.libcal.com/event/15925365?hs=a\nActiveBury: https://www.activebury.com/events/2518
URL:https://www.activebury.com/events/2518
END:VEVENT
END:VCALENDAR
