BEGIN:VCALENDAR
VERSION:2.0
PRODID:-//ActiveBury//Events//EN
CALSCALE:GREGORIAN
BEGIN:VEVENT
UID:event-2517@activebury.com
DTSTAMP:20260425T133437Z
SUMMARY:Teen Time: Egg Decorating
DTSTART:20260317T153000
DTEND:20260317T180000
LOCATION:Ocean Pines Branch Branch: Ocean Pines Branch Audience: 12 to 18 Categories: Crafts
DESCRIPTION:Drop in to design an egg! Will it be a dragon egg? A wind fish egg? You decide! Ages 13 and up. 410-208-4014\nMore info: https://worcesterlibrary.libcal.com/event/15977236?hs=a\nActiveBury: https://www.activebury.com/events/2517
URL:https://www.activebury.com/events/2517
END:VEVENT
END:VCALENDAR
