BEGIN:VCALENDAR
VERSION:2.0
PRODID:-//ActiveBury//Events//EN
CALSCALE:GREGORIAN
BEGIN:VEVENT
UID:event-2516@activebury.com
DTSTAMP:20260425T133425Z
SUMMARY:OC Knitting Group
DTSTART:20260317T103000
DTEND:20260317T120000
LOCATION:Ocean City Meeting Room Branch: Ocean City Branch Audience: Adults Categories: Crafts
DESCRIPTION:Do you love to knit or crochet? Bring whatever project you happen to be working on. We hope to see you there! 410-524-1818\nMore info: https://worcesterlibrary.libcal.com/event/15885302?hs=a\nActiveBury: https://www.activebury.com/events/2516
URL:https://www.activebury.com/events/2516
END:VEVENT
END:VCALENDAR
