BEGIN:VCALENDAR
VERSION:2.0
PRODID:-//ActiveBury//Events//EN
CALSCALE:GREGORIAN
BEGIN:VEVENT
UID:event-2515@activebury.com
DTSTAMP:20260425T134007Z
SUMMARY:Storytime: Community Helpers
DTSTART:20260317T103000
DTEND:20260317T113000
LOCATION:Pocomoke Branch Branch: Pocomoke Branch Audience: Birth to 5 Categories: Storytime
DESCRIPTION:Join us for songs\, rhymes\, and stories. For ages 0-5. 410-957-0878.\nMore info: https://worcesterlibrary.libcal.com/event/16169630?hs=a\nActiveBury: https://www.activebury.com/events/2515
URL:https://www.activebury.com/events/2515
END:VEVENT
END:VCALENDAR
