BEGIN:VCALENDAR
VERSION:2.0
PRODID:-//ActiveBury//Events//EN
CALSCALE:GREGORIAN
BEGIN:VEVENT
UID:event-2512@activebury.com
DTSTAMP:20260425T133438Z
SUMMARY:Genealogy Workshop
DTSTART:20260317T100000
DTEND:20260317T113000
LOCATION:Ocean Pines Conference Room Branch: Ocean Pines Branch Audience: Adults Categories: History & Genealogy
DESCRIPTION:This workshop starts with a 20-minute lesson on genealogy research by Tom Dempsey\, followed by Q&A. Bring a laptop\, tablet\, or papers containing family information\, if you can. Registration requested\, limit 9. 410-208-4014\nMore info: https://worcesterlibrary.libcal.com/event/14827571?hs=a\nActiveBury: https://www.activebury.com/events/2512
URL:https://www.activebury.com/events/2512
END:VEVENT
END:VCALENDAR
