BEGIN:VCALENDAR
VERSION:2.0
PRODID:-//ActiveBury//Events//EN
CALSCALE:GREGORIAN
BEGIN:VEVENT
UID:event-2508@activebury.com
DTSTAMP:20260425T134025Z
SUMMARY:The Art of Story Telling
DTSTART:20260418T120000
DTEND:20260418T133000
LOCATION:Central Branch Denton
DESCRIPTION:Join the Caroline County library and community to explore the art of storytelling on Saturday\, April 18 at 12:00 pm with Liz Newell as a foundational aspect of human connection and healing.\nMore info: https://carolinecounty.librarycalendar.com/event/art-storytelling-3488\nActiveBury: https://www.activebury.com/events/2508
URL:https://www.activebury.com/events/2508
END:VEVENT
END:VCALENDAR
