BEGIN:VCALENDAR
VERSION:2.0
PRODID:-//ActiveBury//Events//EN
CALSCALE:GREGORIAN
BEGIN:VEVENT
UID:event-250@activebury.com
DTSTAMP:20260425T152038Z
SUMMARY:Young Achievers Learning Center
DTSTART:20260302T090000
DTEND:20260302T100000
LOCATION:Bookmobile
DESCRIPTION:This event is in the "Everyone" group 9:00am–10:00am Everyone Bookmobile Offsite Event This event is in the "Everyone" group Mar 2 2026 Mon Young Achievers Learning Center 9:00am–10:00am Bookmobile Bookmobile Everyone 32085 Beaver Run Dr.\nMore info: https://www.wicomicolibrary.org/event/young-achievers-learning-center-20273\nActiveBury: https://www.activebury.com/events/250
URL:https://www.activebury.com/events/250
END:VEVENT
END:VCALENDAR
