BEGIN:VCALENDAR
VERSION:2.0
PRODID:-//ActiveBury//Events//EN
CALSCALE:GREGORIAN
BEGIN:VEVENT
UID:event-2490@activebury.com
DTSTAMP:20260425T133942Z
SUMMARY:Eastern Shore Running Club - Loakal Branch Brewing
DTSTART:20260507T180000
LOCATION:Loakal Branch Brewing 501 N. Bi State Blvd Delmar
DESCRIPTION:RUN WITH US!\nThe Eastern Shore Running Club has six weekly group runs.\n\nRunners who are not already members must sign a waiver. You can sign an online waiver here.\n\nPlease do not come to a run if you have symptoms of COVID-19. \n\nMonday\, 5 a.m.: All-paces group run\, 3.5 miles\, Salisbury Bible Fellowship/Pine Bluff Self Storage\, 1500 Court Plaza Lane\, Salisbury\n\nTuesday\, 6 p.m.: All-paces group run\, 3.3 miles\, Ben’s Red Swings at the Salisbury City Park (seasonal location as of March 10\, 2026)\n\nWednesday\, 6 p.m.: All-paces group run\, 3.3 miles\, Ben’s Red Swings at the Salisbury City Park (seasonal location as of March 11\, 2026)\n\nNOTE: Our usual course will be slightly different because of a water main replacement project happening at the Salisbury City Park. We have to avoid the trail between Memorial Plaza and the parking lot\, and can go onto North Park Drive during this section. Please be careful. \n\nThursday\, noon: All-paces group run\, 3.5 miles\, Salisbury Bible Fellowship/Pine Bluff Self Storage\n\nThursday\, 6 p.m.: All-paces group run\, 3.5 miles\, Loakal Branch Brewing\, 501 N. Bi State Blvd.\, Delmar\n\nFriday\, 5 a.m.: All-paces group run of 3.5+ miles\, Salisbury Bible Fellowship/Pine Bluff Self Storage\n\nWe really do mean ALL paces!\nMore info: https://www.esrclub.org/group-runs-and-social-events\nActiveBury: https://www.activebury.com/events/2490
URL:https://www.activebury.com/events/2490
END:VEVENT
END:VCALENDAR
