BEGIN:VCALENDAR
VERSION:2.0
PRODID:-//ActiveBury//Events//EN
CALSCALE:GREGORIAN
BEGIN:VEVENT
UID:event-2485@activebury.com
DTSTAMP:20260425T133908Z
SUMMARY:Eastern Shore Running Club - Loakal Branch Brewing
DTSTART:20260402T180000
LOCATION:Loakal Branch Brewing 501 N. Bi State Blvd Delmar
DESCRIPTION:RUN WITH US!\nThe Eastern Shore Running Club has six weekly group runs.\n\nRunners who are not already members must sign a waiver. You can sign an online waiver here.\n\nWe really do mean ALL paces!\nMore info: https://www.esrclub.org/group-runs-and-social-events\nActiveBury: https://www.activebury.com/events/2485
URL:https://www.activebury.com/events/2485
END:VEVENT
END:VCALENDAR
