BEGIN:VCALENDAR
VERSION:2.0
PRODID:-//ActiveBury//Events//EN
CALSCALE:GREGORIAN
BEGIN:VEVENT
UID:event-247@activebury.com
DTSTAMP:20260425T133819Z
SUMMARY:County Council Meeting
DTSTART:20260317T100000
DTEND:20260317T130000
LOCATION:125 N. Division St Room 301 Salisbury \, MD
DESCRIPTION:Create a Website Account - Manage notification subscriptions\, save form progress and more.\n\nView All Calendars is the default. Choose Select a Calendar to view a specific calendar. Subscribe to calendar notifications by clicking on the Notify Me button\, and you will automatically be alerted about the latest events in our community.\n\nCounty of Wicomico\, MD Office of the County Executive 125 North Division Street P.O. Box 870 Salisbury\, MD 21803-0870\nMore info: https://www.wicomicocounty.org/Calendar.aspx?EID=361&month=3&year=2026&day=27&calType=0\nActiveBury: https://www.activebury.com/events/247
URL:https://www.activebury.com/events/247
END:VEVENT
END:VCALENDAR
