BEGIN:VCALENDAR
VERSION:2.0
PRODID:-//ActiveBury//Events//EN
CALSCALE:GREGORIAN
BEGIN:VEVENT
UID:event-245@activebury.com
DTSTAMP:20260425T133255Z
SUMMARY:Walk with a Doc - April
DTSTART;VALUE=DATE:20260404
DTEND;VALUE=DATE:20260405
LOCATION:Downtown Salisbury
DESCRIPTION:More info: https://walkwithadoc.org/join-a-walk/locations/salisbury-maryland/\nActiveBury: https://www.activebury.com/events/245
URL:https://www.activebury.com/events/245
END:VEVENT
END:VCALENDAR
