BEGIN:VCALENDAR
VERSION:2.0
PRODID:-//ActiveBury//Events//EN
CALSCALE:GREGORIAN
BEGIN:VEVENT
UID:event-244@activebury.com
DTSTAMP:20260425T153331Z
SUMMARY:Walk with a Doc - March
DTSTART;VALUE=DATE:20260307
DTEND;VALUE=DATE:20260308
LOCATION:Downtown Salisbury
DESCRIPTION:More info: https://walkwithadoc.org/join-a-walk/locations/salisbury-maryland/\nActiveBury: https://www.activebury.com/events/244
URL:https://www.activebury.com/events/244
END:VEVENT
END:VCALENDAR
