BEGIN:VCALENDAR
VERSION:2.0
PRODID:-//ActiveBury//Events//EN
CALSCALE:GREGORIAN
BEGIN:VEVENT
UID:event-243@activebury.com
DTSTAMP:20260425T133743Z
SUMMARY:Decades-A Journey Through Musical Time Dinner + Show
DTSTART;VALUE=DATE:20260215
DTEND;VALUE=DATE:20260216
LOCATION:Wicomico County
DESCRIPTION:More info: https://www.wicomicociviccenter.org/schedule-of-events/decades-a-journey-through-musical-time-dinner---show\nActiveBury: https://www.activebury.com/events/243
URL:https://www.activebury.com/events/243
END:VEVENT
END:VCALENDAR
