BEGIN:VCALENDAR
VERSION:2.0
PRODID:-//ActiveBury//Events//EN
CALSCALE:GREGORIAN
BEGIN:VEVENT
UID:event-242@activebury.com
DTSTAMP:20260425T164300Z
SUMMARY:Monsters of Metal: Blizzard Bash Presented by The Metal Shop
DTSTART;VALUE=DATE:20260214
DTEND;VALUE=DATE:20260215
LOCATION:Wicomico County
DESCRIPTION:More info: https://www.wicomicociviccenter.org/schedule-of-events/monsters-of-metal--blizzard-bash-presented-by-the-metal-shop\nActiveBury: https://www.activebury.com/events/242
URL:https://www.activebury.com/events/242
END:VEVENT
END:VCALENDAR
