BEGIN:VCALENDAR
VERSION:2.0
PRODID:-//ActiveBury//Events//EN
CALSCALE:GREGORIAN
BEGIN:VEVENT
UID:event-241@activebury.com
DTSTAMP:20260425T153331Z
SUMMARY:From Page to Play: Daggerheart RPG
DTSTART:20260228T150000
DTEND:20260228T164500
LOCATION:Centre Branch
DESCRIPTION:This event is in the "Ages 12-18" group This event is in the "Ages 18+" group 3:00pm–4:45pm Ages 12-18\, Ages 18+ Centre Branch Open Registration Available This event is in the "Ages 12-18" group This event is in the "Ages 18+" group Feb 28 2026 Sat From Page to Play: Daggerheart RPG 3:00pm–4:45pm Centre Branch Open Centre Branch The Space at Centre Ages 12-18 \, Ages 18+ Games Registration Available Come take a small step into the world of Role Play Games! We will take 2 sessions each month and help you make a character and then play as that character in a one session game! No experience with previous games required!\nMore info: https://www.wicomicolibrary.org/event/page-play-daggerheart-rpg-21657\nActiveBury: https://www.activebury.com/events/241
URL:https://www.activebury.com/events/241
END:VEVENT
END:VCALENDAR
