BEGIN:VCALENDAR
VERSION:2.0
PRODID:-//ActiveBury//Events//EN
CALSCALE:GREGORIAN
BEGIN:VEVENT
UID:event-238@activebury.com
DTSTAMP:20260425T133831Z
SUMMARY:Bookmobile & Mobile Learning Lab: Digital Drawing on the Go!
DTSTART:20260228T100000
DTEND:20260228T120000
LOCATION:Mobile Learning Lab
DESCRIPTION:This event is in the "Everyone" group 10:00am–12:00pm Everyone Mobile Learning Lab Offsite Event This event is in the "Everyone" group Feb 28 2026 Sat Bookmobile & Mobile Learning Lab: Digital Drawing on the Go! 10:00am–12:00pm Mobile Learning Lab Mobile Learning Lab Everyone Join us for a special visit from the library’s Bookmobile and Mobile Learning Lab at the Westside Community Center!\nMore info: https://www.wicomicolibrary.org/event/westside-community-center-pop-event-20801\nActiveBury: https://www.activebury.com/events/238
URL:https://www.activebury.com/events/238
END:VEVENT
END:VCALENDAR
