BEGIN:VCALENDAR
VERSION:2.0
PRODID:-//ActiveBury//Events//EN
CALSCALE:GREGORIAN
BEGIN:VEVENT
UID:event-2352@activebury.com
DTSTAMP:20260425T133842Z
SUMMARY:Napkin Decorated Eggs at Michael's
DTSTART:20260322T130000
DTEND:20260322T150000
LOCATION:Michaels
DESCRIPTION:Free family craft at Michaels!\nMore info: https://www.michaels.com/\nActiveBury: https://www.activebury.com/events/2352
URL:https://www.activebury.com/events/2352
END:VEVENT
END:VCALENDAR
