BEGIN:VCALENDAR
VERSION:2.0
PRODID:-//ActiveBury//Events//EN
CALSCALE:GREGORIAN
BEGIN:VEVENT
UID:event-2351@activebury.com
DTSTAMP:20260425T134003Z
SUMMARY:Bunny Wood Frame Craft at Michael's
DTSTART:20260329T130000
DTEND:20260329T150000
LOCATION:Michael's in Salisbury
DESCRIPTION:Free family craft at Michael's!\nMore info: https://www.michaels.com/\nActiveBury: https://www.activebury.com/events/2351
URL:https://www.activebury.com/events/2351
END:VEVENT
END:VCALENDAR
