BEGIN:VCALENDAR
VERSION:2.0
PRODID:-//ActiveBury//Events//EN
CALSCALE:GREGORIAN
BEGIN:VEVENT
UID:event-2350@activebury.com
DTSTAMP:20260425T133903Z
SUMMARY:Tissue Painted Eggs at Michael's
DTSTART:20260315T130000
DTEND:20260315T150000
LOCATION:Marshalls in Salisbury
DESCRIPTION:Free craft for the family. Occurs most Sundays at Michael's\nMore info: https://www.michaels.com/\nActiveBury: https://www.activebury.com/events/2350
URL:https://www.activebury.com/events/2350
END:VEVENT
END:VCALENDAR
