BEGIN:VCALENDAR
VERSION:2.0
PRODID:-//ActiveBury//Events//EN
CALSCALE:GREGORIAN
BEGIN:VEVENT
UID:event-2341@activebury.com
DTSTAMP:20260425T182822Z
SUMMARY:Pickleball at Cypress Park
DTSTART:20260707T170000
DTEND:20260707T200000
LOCATION:Cypress Park Pocomoke
DESCRIPTION:Community Pickleball starting at 5! Usually a good turnout!\nMore info: https://downtownpocomoke.com/cypress-park/\nActiveBury: https://www.activebury.com/events/2341
URL:https://www.activebury.com/events/2341
END:VEVENT
END:VCALENDAR
